BEGIN:VCALENDAR
VERSION:2.0
PRODID:-//Tenuta Sant&#039; Anna Collamato - ECPv6.11.2.1//NONSGML v1.0//EN
CALSCALE:GREGORIAN
METHOD:PUBLISH
X-WR-CALNAME:Tenuta Sant&#039; Anna Collamato
X-ORIGINAL-URL:https://www.tenutasantannacollamato.it
X-WR-CALDESC:Eventi per Tenuta Sant&#039; Anna Collamato
REFRESH-INTERVAL;VALUE=DURATION:PT1H
X-Robots-Tag:noindex
X-PUBLISHED-TTL:PT1H
BEGIN:VTIMEZONE
TZID:Europe/Rome
BEGIN:DAYLIGHT
TZOFFSETFROM:+0100
TZOFFSETTO:+0200
TZNAME:CEST
DTSTART:20160327T010000
END:DAYLIGHT
BEGIN:STANDARD
TZOFFSETFROM:+0200
TZOFFSETTO:+0100
TZNAME:CET
DTSTART:20161030T010000
END:STANDARD
END:VTIMEZONE
BEGIN:VEVENT
DTSTART;TZID=Europe/Rome:20160508T100000
DTEND;TZID=Europe/Rome:20160508T123000
DTSTAMP:20260420T200528
CREATED:20160424T172759Z
LAST-MODIFIED:20180207T183846Z
UID:348555-1462701600-1462710600@www.tenutasantannacollamato.it
SUMMARY:Apertura Chiesa di Sant'Anna
DESCRIPTION:Archeoclub d’Italia\, movimento che si batte da 40 anni per la conoscenza\, la tutela\, la conservazione del patrimonio culturale italiano\, apre\, con i suoi volontari\, le porte di chiese\, oratori\, abbazie\, cripte generalmente chiusi e fruite solo in occasioni particolari. La sede di Fabriano di Archeoclub di Italia partecipa alla manifestazione con l’apertura della chiesa di S. Anna\, in località Collamato\, recentemente restaurata\, ancora officiata ma solo in occasione della ricorrenza il 26 luglio della festa della santa. Grazie alla disponibilità della proprietà\, Gigliola Marinelli\, la visita guidata si svolgerà l’8 maggio\, alle ore 11. La visita è gratuita e aperta a tutti. L’architetto Ballelli parlerà dell’edificio dal punto di vista storico – architettonico\, Giampiero Donnini dell’affresco conservato nella chiesa e attribuito a Antonio da Fabriano.
URL:https://www.tenutasantannacollamato.it/evento/apertura-chiesa/
LOCATION:Chiesa di Sant’Anna\, Via Avenale 65\, Fabriano\, AN\, 60044\, Italia
CATEGORIES:Chiese Aperte
ATTACH;FMTTYPE=image/jpeg:https://www.tenutasantannacollamato.it/wp-content/uploads/2018/02/chiese-aperte-2016.jpg
END:VEVENT
END:VCALENDAR