BEGIN:VCALENDAR
VERSION:2.0
PRODID:-//Tenuta Sant&#039; Anna Collamato - ECPv6.11.2.1//NONSGML v1.0//EN
CALSCALE:GREGORIAN
METHOD:PUBLISH
X-ORIGINAL-URL:https://www.tenutasantannacollamato.it
X-WR-CALDESC:Eventi per Tenuta Sant&#039; Anna Collamato
REFRESH-INTERVAL;VALUE=DURATION:PT1H
X-Robots-Tag:noindex
X-PUBLISHED-TTL:PT1H
BEGIN:VTIMEZONE
TZID:Europe/Rome
BEGIN:DAYLIGHT
TZOFFSETFROM:+0100
TZOFFSETTO:+0200
TZNAME:CEST
DTSTART:20160327T010000
END:DAYLIGHT
BEGIN:STANDARD
TZOFFSETFROM:+0200
TZOFFSETTO:+0100
TZNAME:CET
DTSTART:20161030T010000
END:STANDARD
BEGIN:DAYLIGHT
TZOFFSETFROM:+0100
TZOFFSETTO:+0200
TZNAME:CEST
DTSTART:20170326T010000
END:DAYLIGHT
BEGIN:STANDARD
TZOFFSETFROM:+0200
TZOFFSETTO:+0100
TZNAME:CET
DTSTART:20171029T010000
END:STANDARD
BEGIN:DAYLIGHT
TZOFFSETFROM:+0100
TZOFFSETTO:+0200
TZNAME:CEST
DTSTART:20180325T010000
END:DAYLIGHT
BEGIN:STANDARD
TZOFFSETFROM:+0200
TZOFFSETTO:+0100
TZNAME:CET
DTSTART:20181028T010000
END:STANDARD
BEGIN:DAYLIGHT
TZOFFSETFROM:+0100
TZOFFSETTO:+0200
TZNAME:CEST
DTSTART:20190331T010000
END:DAYLIGHT
BEGIN:STANDARD
TZOFFSETFROM:+0200
TZOFFSETTO:+0100
TZNAME:CET
DTSTART:20191027T010000
END:STANDARD
BEGIN:DAYLIGHT
TZOFFSETFROM:+0100
TZOFFSETTO:+0200
TZNAME:CEST
DTSTART:20200329T010000
END:DAYLIGHT
BEGIN:STANDARD
TZOFFSETFROM:+0200
TZOFFSETTO:+0100
TZNAME:CET
DTSTART:20201025T010000
END:STANDARD
BEGIN:DAYLIGHT
TZOFFSETFROM:+0100
TZOFFSETTO:+0200
TZNAME:CEST
DTSTART:20210328T010000
END:DAYLIGHT
BEGIN:STANDARD
TZOFFSETFROM:+0200
TZOFFSETTO:+0100
TZNAME:CET
DTSTART:20211031T010000
END:STANDARD
BEGIN:DAYLIGHT
TZOFFSETFROM:+0100
TZOFFSETTO:+0200
TZNAME:CEST
DTSTART:20220327T010000
END:DAYLIGHT
BEGIN:STANDARD
TZOFFSETFROM:+0200
TZOFFSETTO:+0100
TZNAME:CET
DTSTART:20221030T010000
END:STANDARD
BEGIN:DAYLIGHT
TZOFFSETFROM:+0100
TZOFFSETTO:+0200
TZNAME:CEST
DTSTART:20230326T010000
END:DAYLIGHT
BEGIN:STANDARD
TZOFFSETFROM:+0200
TZOFFSETTO:+0100
TZNAME:CET
DTSTART:20231029T010000
END:STANDARD
END:VTIMEZONE
BEGIN:VEVENT
DTSTART;TZID=Europe/Rome:20230726T180000
DTEND;TZID=Europe/Rome:20230726T200000
DTSTAMP:20260420T131620
CREATED:20180207T175235Z
LAST-MODIFIED:20180207T175235Z
UID:348803-1690394400-1690401600@www.tenutasantannacollamato.it
SUMMARY:Celebrazione Santa Messa
DESCRIPTION:Giovedì 26 luglio alle ore 18:00\, verrà celebrata una Santa Messa da don Leopoldo Crocetti \, parroco di Collamato\, e don Vincenzo Bracci\, priore di San Silvestro. La chiesa resterà aperta al pubblico per tutta la giornata del 26 luglio.
URL:https://www.tenutasantannacollamato.it/evento/celebrazione-santa-messa-2018-2023-07-26/
LOCATION:Chiesa di Sant’Anna\, Via Avenale 65\, Fabriano\, AN\, 60044\, Italia
CATEGORIES:Festa della Santa,Santa Messa
ATTACH;FMTTYPE=image/jpeg:https://www.tenutasantannacollamato.it/wp-content/uploads/2018/02/festa-santanna-2017.jpg
ORGANIZER;CN="Gigliola Marinelli":MAILTO:info@tenutasantannacollamato.it
END:VEVENT
BEGIN:VEVENT
DTSTART;TZID=Europe/Rome:20230725T210000
DTEND;TZID=Europe/Rome:20230725T223000
DTSTAMP:20260420T131620
CREATED:20180207T175134Z
LAST-MODIFIED:20180207T175134Z
UID:348802-1690318800-1690324200@www.tenutasantannacollamato.it
SUMMARY:Processione notturna
DESCRIPTION:Mercoledì 25 luglio alle 21:00 tradizionale processione notturna fino al Santuario con adorazione della Santa.
URL:https://www.tenutasantannacollamato.it/evento/processione-notturna-2018-2023-07-25/
LOCATION:Chiesa di Sant’Anna\, Via Avenale 65\, Fabriano\, AN\, 60044\, Italia
CATEGORIES:Festa della Santa
ATTACH;FMTTYPE=image/jpeg:https://www.tenutasantannacollamato.it/wp-content/uploads/2018/02/processione-notturna.jpg
ORGANIZER;CN="Gigliola Marinelli":MAILTO:info@tenutasantannacollamato.it
END:VEVENT
BEGIN:VEVENT
DTSTART;TZID=Europe/Rome:20220726T180000
DTEND;TZID=Europe/Rome:20220726T200000
DTSTAMP:20260420T131620
CREATED:20180207T175235Z
LAST-MODIFIED:20180207T175235Z
UID:348780-1658858400-1658865600@www.tenutasantannacollamato.it
SUMMARY:Celebrazione Santa Messa
DESCRIPTION:Giovedì 26 luglio alle ore 18:00\, verrà celebrata una Santa Messa da don Leopoldo Crocetti \, parroco di Collamato\, e don Vincenzo Bracci\, priore di San Silvestro. La chiesa resterà aperta al pubblico per tutta la giornata del 26 luglio.
URL:https://www.tenutasantannacollamato.it/evento/celebrazione-santa-messa-2018-2022-07-26/
LOCATION:Chiesa di Sant’Anna\, Via Avenale 65\, Fabriano\, AN\, 60044\, Italia
CATEGORIES:Festa della Santa,Santa Messa
ATTACH;FMTTYPE=image/jpeg:https://www.tenutasantannacollamato.it/wp-content/uploads/2018/02/festa-santanna-2017.jpg
ORGANIZER;CN="Gigliola Marinelli":MAILTO:info@tenutasantannacollamato.it
END:VEVENT
BEGIN:VEVENT
DTSTART;TZID=Europe/Rome:20220725T210000
DTEND;TZID=Europe/Rome:20220725T223000
DTSTAMP:20260420T131620
CREATED:20180207T175134Z
LAST-MODIFIED:20180207T175134Z
UID:348781-1658782800-1658788200@www.tenutasantannacollamato.it
SUMMARY:Processione notturna
DESCRIPTION:Mercoledì 25 luglio alle 21:00 tradizionale processione notturna fino al Santuario con adorazione della Santa.
URL:https://www.tenutasantannacollamato.it/evento/processione-notturna-2018-2022-07-25/
LOCATION:Chiesa di Sant’Anna\, Via Avenale 65\, Fabriano\, AN\, 60044\, Italia
CATEGORIES:Festa della Santa
ATTACH;FMTTYPE=image/jpeg:https://www.tenutasantannacollamato.it/wp-content/uploads/2018/02/processione-notturna.jpg
ORGANIZER;CN="Gigliola Marinelli":MAILTO:info@tenutasantannacollamato.it
END:VEVENT
BEGIN:VEVENT
DTSTART;TZID=Europe/Rome:20210726T180000
DTEND;TZID=Europe/Rome:20210726T200000
DTSTAMP:20260420T131620
CREATED:20180207T175235Z
LAST-MODIFIED:20180207T175235Z
UID:348738-1627322400-1627329600@www.tenutasantannacollamato.it
SUMMARY:Celebrazione Santa Messa
DESCRIPTION:Giovedì 26 luglio alle ore 18:00\, verrà celebrata una Santa Messa da don Leopoldo Crocetti \, parroco di Collamato\, e don Vincenzo Bracci\, priore di San Silvestro. La chiesa resterà aperta al pubblico per tutta la giornata del 26 luglio.
URL:https://www.tenutasantannacollamato.it/evento/celebrazione-santa-messa-2018-2021-07-26/
LOCATION:Chiesa di Sant’Anna\, Via Avenale 65\, Fabriano\, AN\, 60044\, Italia
CATEGORIES:Festa della Santa,Santa Messa
ATTACH;FMTTYPE=image/jpeg:https://www.tenutasantannacollamato.it/wp-content/uploads/2018/02/festa-santanna-2017.jpg
ORGANIZER;CN="Gigliola Marinelli":MAILTO:info@tenutasantannacollamato.it
END:VEVENT
BEGIN:VEVENT
DTSTART;TZID=Europe/Rome:20210725T210000
DTEND;TZID=Europe/Rome:20210725T223000
DTSTAMP:20260420T131620
CREATED:20180207T175134Z
LAST-MODIFIED:20180207T175134Z
UID:348741-1627246800-1627252200@www.tenutasantannacollamato.it
SUMMARY:Processione notturna
DESCRIPTION:Mercoledì 25 luglio alle 21:00 tradizionale processione notturna fino al Santuario con adorazione della Santa.
URL:https://www.tenutasantannacollamato.it/evento/processione-notturna-2018-2021-07-25/
LOCATION:Chiesa di Sant’Anna\, Via Avenale 65\, Fabriano\, AN\, 60044\, Italia
CATEGORIES:Festa della Santa
ATTACH;FMTTYPE=image/jpeg:https://www.tenutasantannacollamato.it/wp-content/uploads/2018/02/processione-notturna.jpg
ORGANIZER;CN="Gigliola Marinelli":MAILTO:info@tenutasantannacollamato.it
END:VEVENT
BEGIN:VEVENT
DTSTART;TZID=Europe/Rome:20200726T180000
DTEND;TZID=Europe/Rome:20200726T200000
DTSTAMP:20260420T131620
CREATED:20180207T175235Z
LAST-MODIFIED:20180207T175235Z
UID:348737-1595786400-1595793600@www.tenutasantannacollamato.it
SUMMARY:Celebrazione Santa Messa
DESCRIPTION:Giovedì 26 luglio alle ore 18:00\, verrà celebrata una Santa Messa da don Leopoldo Crocetti \, parroco di Collamato\, e don Vincenzo Bracci\, priore di San Silvestro. La chiesa resterà aperta al pubblico per tutta la giornata del 26 luglio.
URL:https://www.tenutasantannacollamato.it/evento/celebrazione-santa-messa-2018-2020-07-26/
LOCATION:Chiesa di Sant’Anna\, Via Avenale 65\, Fabriano\, AN\, 60044\, Italia
CATEGORIES:Festa della Santa,Santa Messa
ATTACH;FMTTYPE=image/jpeg:https://www.tenutasantannacollamato.it/wp-content/uploads/2018/02/festa-santanna-2017.jpg
ORGANIZER;CN="Gigliola Marinelli":MAILTO:info@tenutasantannacollamato.it
END:VEVENT
BEGIN:VEVENT
DTSTART;TZID=Europe/Rome:20200725T210000
DTEND;TZID=Europe/Rome:20200725T223000
DTSTAMP:20260420T131620
CREATED:20180207T175134Z
LAST-MODIFIED:20180207T175134Z
UID:348740-1595710800-1595716200@www.tenutasantannacollamato.it
SUMMARY:Processione notturna
DESCRIPTION:Mercoledì 25 luglio alle 21:00 tradizionale processione notturna fino al Santuario con adorazione della Santa.
URL:https://www.tenutasantannacollamato.it/evento/processione-notturna-2018-2020-07-25/
LOCATION:Chiesa di Sant’Anna\, Via Avenale 65\, Fabriano\, AN\, 60044\, Italia
CATEGORIES:Festa della Santa
ATTACH;FMTTYPE=image/jpeg:https://www.tenutasantannacollamato.it/wp-content/uploads/2018/02/processione-notturna.jpg
ORGANIZER;CN="Gigliola Marinelli":MAILTO:info@tenutasantannacollamato.it
END:VEVENT
BEGIN:VEVENT
DTSTART;TZID=Europe/Rome:20180726T180000
DTEND;TZID=Europe/Rome:20180726T200000
DTSTAMP:20260420T131620
CREATED:20180207T175235Z
LAST-MODIFIED:20200518T131447Z
UID:348553-1532628000-1532635200@www.tenutasantannacollamato.it
SUMMARY:Celebrazione Santa Messa
DESCRIPTION:Giovedì 26 luglio alle ore 18:00\, verrà celebrata una Santa Messa da don Leopoldo Crocetti \, parroco di Collamato\, e don Vincenzo Bracci\, priore di San Silvestro. La chiesa resterà aperta al pubblico per tutta la giornata del 26 luglio.
URL:https://www.tenutasantannacollamato.it/evento/celebrazione-santa-messa-2018/
LOCATION:Chiesa di Sant’Anna\, Via Avenale 65\, Fabriano\, AN\, 60044\, Italia
CATEGORIES:Festa della Santa,Santa Messa
ATTACH;FMTTYPE=image/jpeg:https://www.tenutasantannacollamato.it/wp-content/uploads/2018/02/festa-santanna-2017.jpg
ORGANIZER;CN="Gigliola Marinelli":MAILTO:info@tenutasantannacollamato.it
END:VEVENT
BEGIN:VEVENT
DTSTART;TZID=Europe/Rome:20180725T210000
DTEND;TZID=Europe/Rome:20180725T223000
DTSTAMP:20260420T131620
CREATED:20180207T175134Z
LAST-MODIFIED:20200518T131605Z
UID:348551-1532552400-1532557800@www.tenutasantannacollamato.it
SUMMARY:Processione notturna
DESCRIPTION:Mercoledì 25 luglio alle 21:00 tradizionale processione notturna fino al Santuario con adorazione della Santa.
URL:https://www.tenutasantannacollamato.it/evento/processione-notturna-2018/
LOCATION:Chiesa di Sant’Anna\, Via Avenale 65\, Fabriano\, AN\, 60044\, Italia
CATEGORIES:Festa della Santa
ATTACH;FMTTYPE=image/jpeg:https://www.tenutasantannacollamato.it/wp-content/uploads/2018/02/processione-notturna.jpg
ORGANIZER;CN="Gigliola Marinelli":MAILTO:info@tenutasantannacollamato.it
END:VEVENT
BEGIN:VEVENT
DTSTART;TZID=Europe/Rome:20170726T180000
DTEND;TZID=Europe/Rome:20170726T200000
DTSTAMP:20260420T131620
CREATED:20170723T163941Z
LAST-MODIFIED:20180207T174959Z
UID:348543-1501092000-1501099200@www.tenutasantannacollamato.it
SUMMARY:Celebrazione Santa Messa
DESCRIPTION:Mercoledì 26 luglio alle ore 18:00\, verrà celebrata una Santa Messa da don Leopoldo Crocetti \, parroco di Collamato\, e don Vincenzo Bracci\, priore di San Silvestro. La chiesa resterà aperta al pubblico per tutta la giornata del 26 luglio.
URL:https://www.tenutasantannacollamato.it/evento/celebrazione-santa-messa-2017/
LOCATION:Chiesa di Sant’Anna\, Via Avenale 65\, Fabriano\, AN\, 60044\, Italia
CATEGORIES:Festa della Santa,Santa Messa
ATTACH;FMTTYPE=image/jpeg:https://www.tenutasantannacollamato.it/wp-content/uploads/2018/02/festa-santanna-2017.jpg
ORGANIZER;CN="Gigliola Marinelli":MAILTO:info@tenutasantannacollamato.it
END:VEVENT
BEGIN:VEVENT
DTSTART;TZID=Europe/Rome:20170725T210000
DTEND;TZID=Europe/Rome:20170725T223000
DTSTAMP:20260420T131620
CREATED:20170723T164632Z
LAST-MODIFIED:20180207T174903Z
UID:348548-1501016400-1501021800@www.tenutasantannacollamato.it
SUMMARY:Processione notturna
DESCRIPTION:Martedì 25 luglio alle 21:00 tradizionale processione notturna fino al Santuario con adorazione della Santa.
URL:https://www.tenutasantannacollamato.it/evento/processione-notturna-2017/
LOCATION:Chiesa di Sant’Anna\, Via Avenale 65\, Fabriano\, AN\, 60044\, Italia
CATEGORIES:Festa della Santa
ATTACH;FMTTYPE=image/jpeg:https://www.tenutasantannacollamato.it/wp-content/uploads/2018/02/processione-notturna.jpg
ORGANIZER;CN="Gigliola Marinelli":MAILTO:info@tenutasantannacollamato.it
END:VEVENT
BEGIN:VEVENT
DTSTART;TZID=Europe/Rome:20160508T100000
DTEND;TZID=Europe/Rome:20160508T123000
DTSTAMP:20260420T131620
CREATED:20160424T172759Z
LAST-MODIFIED:20180207T183846Z
UID:348555-1462701600-1462710600@www.tenutasantannacollamato.it
SUMMARY:Apertura Chiesa di Sant'Anna
DESCRIPTION:Archeoclub d’Italia\, movimento che si batte da 40 anni per la conoscenza\, la tutela\, la conservazione del patrimonio culturale italiano\, apre\, con i suoi volontari\, le porte di chiese\, oratori\, abbazie\, cripte generalmente chiusi e fruite solo in occasioni particolari. La sede di Fabriano di Archeoclub di Italia partecipa alla manifestazione con l’apertura della chiesa di S. Anna\, in località Collamato\, recentemente restaurata\, ancora officiata ma solo in occasione della ricorrenza il 26 luglio della festa della santa. Grazie alla disponibilità della proprietà\, Gigliola Marinelli\, la visita guidata si svolgerà l’8 maggio\, alle ore 11. La visita è gratuita e aperta a tutti. L’architetto Ballelli parlerà dell’edificio dal punto di vista storico – architettonico\, Giampiero Donnini dell’affresco conservato nella chiesa e attribuito a Antonio da Fabriano.
URL:https://www.tenutasantannacollamato.it/evento/apertura-chiesa/
LOCATION:Chiesa di Sant’Anna\, Via Avenale 65\, Fabriano\, AN\, 60044\, Italia
CATEGORIES:Chiese Aperte
ATTACH;FMTTYPE=image/jpeg:https://www.tenutasantannacollamato.it/wp-content/uploads/2018/02/chiese-aperte-2016.jpg
END:VEVENT
END:VCALENDAR